BEGIN:VCALENDAR
PRODID:-//SINGPromos.com//NONSGML v1.0//EN
VERSION:2.0
CALSCALE:GREGORIAN
METHOD:PUBLISH
X-WR-CALNAME:SINGPromos.com
X-ORIGINAL-URL:https://singpromos.com
X-WR-CALDESC:Events for SINGPromos.com
BEGIN:VEVENT
DTSTART:20141206T000000
DTEND:20141207T235900
DTSTAMP:20260422T073917
CREATED:20141206T174309
LAST-MODIFIED:20141206T174309
UID:125388@https://singpromos.com
SUMMARY:Purpur 20% Off Promo 6 - 7 Dec 2014
DESCRIPTION:Free Local delivery. For more information, visit [ https://singpromos.com/fashion-accessories/purpur-20-off-promo-6-7-dec-2014-125388/ ]. 
LOCATION:
URL:https://singpromos.com/fashion-accessories/purpur-20-off-promo-6-7-dec-2014-125388/
END:VEVENT
END:VCALENDAR