BEGIN:VCALENDAR
PRODID:-//SINGPromos.com//NONSGML v1.0//EN
VERSION:2.0
CALSCALE:GREGORIAN
METHOD:PUBLISH
X-WR-CALNAME:SINGPromos.com
X-ORIGINAL-URL:https://singpromos.com
X-WR-CALDESC:Events for SINGPromos.com
BEGIN:VEVENT
DTSTART:20141206T000000
DTEND:20141208T235900
DTSTAMP:20260420T194802
CREATED:20141206T203351
LAST-MODIFIED:20141207T154744
UID:125410@https://singpromos.com
SUMMARY:Courts Year End Sale Offers 6 - 8 Dec 2014
DESCRIPTION:Courts continues their Year End Sale Offers from 6 December to 8 December 2014 at all 14 stores and online. For more information, visit [ https://singpromos.com/department-stores/courts-year-end-sale-offers-6-8-dec-2014-125410/ ]. 
LOCATION:
URL:https://singpromos.com/department-stores/courts-year-end-sale-offers-6-8-dec-2014-125410/
END:VEVENT
END:VCALENDAR