BEGIN:VCALENDAR
PRODID:-//SINGPromos.com//NONSGML v1.0//EN
VERSION:2.0
CALSCALE:GREGORIAN
METHOD:PUBLISH
X-WR-CALNAME:SINGPromos.com
X-ORIGINAL-URL:https://singpromos.com
X-WR-CALDESC:Events for SINGPromos.com
BEGIN:VEVENT
DTSTART:20141211T000000
DTEND:20141228T235900
DTSTAMP:20260422T055518
CREATED:20141211T123215
LAST-MODIFIED:20141215T144748
UID:126041@https://singpromos.com
SUMMARY:Gap Up To 50% Off Sale 11 Dec 2014
DESCRIPTION:Plus, get an additional 20% off when you buy 5 pieces or more.. For more information, visit [ https://singpromos.com/fashion-accessories/gap-up-to-50-off-sale-11-dec-2014-126041/ ]. 
LOCATION:
URL:https://singpromos.com/fashion-accessories/gap-up-to-50-off-sale-11-dec-2014-126041/
END:VEVENT
END:VCALENDAR