BEGIN:VCALENDAR
PRODID:-//SINGPromos.com//NONSGML v1.0//EN
VERSION:2.0
CALSCALE:GREGORIAN
METHOD:PUBLISH
X-WR-CALNAME:SINGPromos.com
X-ORIGINAL-URL:https://singpromos.com
X-WR-CALDESC:Events for SINGPromos.com
BEGIN:VEVENT
DTSTART:20141211T000000
DTEND:20141214T235900
DTSTAMP:20260422T074034
CREATED:20141211T213430
LAST-MODIFIED:20141211T193611
UID:126075@https://singpromos.com
SUMMARY:MDS Collections 20% OFF Storewide Promo 11 Dec 2014
DESCRIPTION:Minimum 2 items. For more information, visit [ https://singpromos.com/fashion-accessories/mds-collections-20-off-storewide-promo-11-dec-2014-126075/ ]. 
LOCATION:
URL:https://singpromos.com/fashion-accessories/mds-collections-20-off-storewide-promo-11-dec-2014-126075/
END:VEVENT
END:VCALENDAR