BEGIN:VCALENDAR
PRODID:-//SINGPromos.com//NONSGML v1.0//EN
VERSION:2.0
CALSCALE:GREGORIAN
METHOD:PUBLISH
X-WR-CALNAME:SINGPromos.com
X-ORIGINAL-URL:https://singpromos.com
X-WR-CALDESC:Events for SINGPromos.com
BEGIN:VEVENT
DTSTART:20141208T000000
DTEND:20141228T235900
DTSTAMP:20260422T073959
CREATED:20141214T164517
LAST-MODIFIED:20141214T164517
UID:126622@https://singpromos.com
SUMMARY:Isetan Household & Living Promotion @ Isetan Orchard 8 Dec 2014
DESCRIPTION:Enjoy up to 70% off Tableware, Kitchen Accessories, Bedlinen and more. For more information, visit [ https://singpromos.com/happenings/isetan-household-living-promotion-isetan-orchard-8-dec-2014-126622/ ]. 
LOCATION:238877
URL:https://singpromos.com/happenings/isetan-household-living-promotion-isetan-orchard-8-dec-2014-126622/
END:VEVENT
END:VCALENDAR