BEGIN:VCALENDAR
PRODID:-//SINGPromos.com//NONSGML v1.0//EN
VERSION:2.0
CALSCALE:GREGORIAN
METHOD:PUBLISH
X-WR-CALNAME:SINGPromos.com
X-ORIGINAL-URL:https://singpromos.com
X-WR-CALDESC:Events for SINGPromos.com
BEGIN:VEVENT
DTSTART:20141219T000000
DTEND:20141224T235900
DTSTAMP:20260422T073831
CREATED:20141218T153834
LAST-MODIFIED:20141219T200247
UID:127165@https://singpromos.com
SUMMARY:Aldo Shoes Pre-Christmas Sale 19 Dec 2014
DESCRIPTION:Enjoy 30% off on regular-priced footwear and handbags.. For more information, visit [ https://singpromos.com/footwear/aldo-shoes-pre-christmas-sale-19-dec-2014-127165/ ]. 
LOCATION:
URL:https://singpromos.com/footwear/aldo-shoes-pre-christmas-sale-19-dec-2014-127165/
END:VEVENT
END:VCALENDAR