BEGIN:VCALENDAR
PRODID:-//SINGPromos.com//NONSGML v1.0//EN
VERSION:2.0
CALSCALE:GREGORIAN
METHOD:PUBLISH
X-WR-CALNAME:SINGPromos.com
X-ORIGINAL-URL:https://singpromos.com
X-WR-CALDESC:Events for SINGPromos.com
BEGIN:VEVENT
DTSTART:20141219T000000
DTEND:20141228T235900
DTSTAMP:20260422T073917
CREATED:20141219T180213
LAST-MODIFIED:20141219T180213
UID:127396@https://singpromos.com
SUMMARY:Lacoste SALE 19 Dec 2014
DESCRIPTION:Lacoste has started their SALE. For more information, visit [ https://singpromos.com/fashion-accessories/lacoste-sale-19-dec-2014-127396/ ]. 
LOCATION:
URL:https://singpromos.com/fashion-accessories/lacoste-sale-19-dec-2014-127396/
END:VEVENT
END:VCALENDAR