BEGIN:VCALENDAR
PRODID:-//SINGPromos.com//NONSGML v1.0//EN
VERSION:2.0
CALSCALE:GREGORIAN
METHOD:PUBLISH
X-WR-CALNAME:SINGPromos.com
X-ORIGINAL-URL:https://singpromos.com
X-WR-CALDESC:Events for SINGPromos.com
BEGIN:VEVENT
DTSTART:20141219T000000
DTEND:20141228T235900
DTSTAMP:20260420T051000
CREATED:20141219T180702
LAST-MODIFIED:20141227T163130
UID:127417@https://singpromos.com
SUMMARY:World of Sports Additional 10% Off & 40% Off Christmas Sale 19 Dec 2014
DESCRIPTION:Valid at all World of Sports, Mizuno, Columbia, Soloman and Eastpak outlets. For more information, visit [ https://singpromos.com/sports/world-of-sports-additional-10-off-40-off-christmas-sale-19-dec-2014-127417/ ]. 
LOCATION:
URL:https://singpromos.com/sports/world-of-sports-additional-10-off-40-off-christmas-sale-19-dec-2014-127417/
END:VEVENT
END:VCALENDAR