BEGIN:VCALENDAR
PRODID:-//SINGPromos.com//NONSGML v1.0//EN
VERSION:2.0
CALSCALE:GREGORIAN
METHOD:PUBLISH
X-WR-CALNAME:SINGPromos.com
X-ORIGINAL-URL:https://singpromos.com
X-WR-CALDESC:Events for SINGPromos.com
BEGIN:VEVENT
DTSTART:20141218T000000
DTEND:20141231T235900
DTSTAMP:20260422T075746
CREATED:20141220T035556
LAST-MODIFIED:20141220T015322
UID:127525@https://singpromos.com
SUMMARY:NTUC Fairprice Electronics, Groceries, Christmas Offers & More 18 - 31 Dec 2014
DESCRIPTION:Catalogue Super Saver, Sweet Baby Savers, Toyomi appliances, Philips LED Lights, P&G Spend $25 & Get $5 Voucher and more. For more information, visit [ https://singpromos.com/department-stores/ntuc-fairprice-electronics-groceries-christmas-offers-more-18-31-dec-2014-127525/ ]. 
LOCATION:
URL:https://singpromos.com/department-stores/ntuc-fairprice-electronics-groceries-christmas-offers-more-18-31-dec-2014-127525/
END:VEVENT
END:VCALENDAR