BEGIN:VCALENDAR
PRODID:-//SINGPromos.com//NONSGML v1.0//EN
VERSION:2.0
CALSCALE:GREGORIAN
METHOD:PUBLISH
X-WR-CALNAME:SINGPromos.com
X-ORIGINAL-URL:https://singpromos.com
X-WR-CALDESC:Events for SINGPromos.com
BEGIN:VEVENT
DTSTART:20141220T000000
DTEND:20150131T235900
DTSTAMP:20260422T082313
CREATED:20141220T091317
LAST-MODIFIED:20141220T011650
UID:127533@https://singpromos.com
SUMMARY:The Laughing Cow Buy 4 Packs Belcube Cheeses & Get Free Party Cube Bowl 20 Dec 2014 - 31 Jan 2015
DESCRIPTION:In conjunction with the upcoming festive season, The Laughing Cow introduces limited edition The Laughing Cow Party Cube Bowl.. For more information, visit [ https://singpromos.com/dining-restaurants-food/the-laughing-cow-buy-4-packs-belcube-cheeses-get-free-party-cube-bowl-20-dec-2014-31-jan-2015-127533/ ]. 
LOCATION:
URL:https://singpromos.com/dining-restaurants-food/the-laughing-cow-buy-4-packs-belcube-cheeses-get-free-party-cube-bowl-20-dec-2014-31-jan-2015-127533/
END:VEVENT
END:VCALENDAR