BEGIN:VCALENDAR
PRODID:-//SINGPromos.com//NONSGML v1.0//EN
VERSION:2.0
CALSCALE:GREGORIAN
METHOD:PUBLISH
X-WR-CALNAME:SINGPromos.com
X-ORIGINAL-URL:https://singpromos.com
X-WR-CALDESC:Events for SINGPromos.com
BEGIN:VEVENT
DTSTART:20141222T000000
DTEND:20141228T235900
DTSTAMP:20260422T080715
CREATED:20141222T121417
LAST-MODIFIED:20141222T121417
UID:127849@https://singpromos.com
SUMMARY:Triumph Lingerie Fair @ Northpoint 22 - 28 Dec 2014
DESCRIPTION:Grab some great buys on lingerie. For more information, visit [ https://singpromos.com/happenings/triumph-lingerie-fair-northpoint-22-28-dec-2014-127849/ ]. 
LOCATION:769098
URL:https://singpromos.com/happenings/triumph-lingerie-fair-northpoint-22-28-dec-2014-127849/
END:VEVENT
END:VCALENDAR