BEGIN:VCALENDAR
PRODID:-//SINGPromos.com//NONSGML v1.0//EN
VERSION:2.0
CALSCALE:GREGORIAN
METHOD:PUBLISH
X-WR-CALNAME:SINGPromos.com
X-ORIGINAL-URL:https://singpromos.com
X-WR-CALDESC:Events for SINGPromos.com
BEGIN:VEVENT
DTSTART:20141222T000000
DTEND:20141228T235900
DTSTAMP:20260422T073931
CREATED:20141223T110143
LAST-MODIFIED:20141222T234108
UID:127896@https://singpromos.com
SUMMARY:The Face Shop 20% Off Storewide 22 - 28 Dec 2014
DESCRIPTION:Time to get your favourites and end December on a sweet note. For more information, visit [ https://singpromos.com/beauty/the-face-shop-20-off-storewide-22-28-dec-2014-127896/ ]. 
LOCATION:
URL:https://singpromos.com/beauty/the-face-shop-20-off-storewide-22-28-dec-2014-127896/
END:VEVENT
END:VCALENDAR