BEGIN:VCALENDAR
PRODID:-//SINGPromos.com//NONSGML v1.0//EN
VERSION:2.0
CALSCALE:GREGORIAN
METHOD:PUBLISH
X-WR-CALNAME:SINGPromos.com
X-ORIGINAL-URL:https://singpromos.com
X-WR-CALDESC:Events for SINGPromos.com
BEGIN:VEVENT
DTSTART:20141224T000000
DTEND:20141231T235900
DTSTAMP:20260420T162719
CREATED:20141224T174021
LAST-MODIFIED:20141224T174021
UID:128064@https://singpromos.com
SUMMARY:Harvey Norman Year End Corporate Deals 24 - 31 Dec 2014
DESCRIPTION:Check out some year end corporate deals for your office at Harvey Norman.. For more information, visit [ https://singpromos.com/computers-pc/harvey-norman-year-end-corporate-deals-24-31-dec-2014-128064/ ]. 
LOCATION:
URL:https://singpromos.com/computers-pc/harvey-norman-year-end-corporate-deals-24-31-dec-2014-128064/
END:VEVENT
END:VCALENDAR