BEGIN:VCALENDAR
PRODID:-//SINGPromos.com//NONSGML v1.0//EN
VERSION:2.0
CALSCALE:GREGORIAN
METHOD:PUBLISH
X-WR-CALNAME:SINGPromos.com
X-ORIGINAL-URL:https://singpromos.com
X-WR-CALDESC:Events for SINGPromos.com
BEGIN:VEVENT
DTSTART:20141226T000000
DTEND:20150111T235900
DTSTAMP:20260422T073831
CREATED:20141226T104259
LAST-MODIFIED:20141226T104259
UID:128243@https://singpromos.com
SUMMARY:Charles & Keith End of Season SALE 26 Dec 2014
DESCRIPTION:Enjoy up to 50% off selected items. For more information, visit [ https://singpromos.com/fashion-accessories/charles-keith-end-of-season-sale-26-dec-2014-128243/ ]. 
LOCATION:
URL:https://singpromos.com/fashion-accessories/charles-keith-end-of-season-sale-26-dec-2014-128243/
END:VEVENT
END:VCALENDAR