BEGIN:VCALENDAR
PRODID:-//SINGPromos.com//NONSGML v1.0//EN
VERSION:2.0
CALSCALE:GREGORIAN
METHOD:PUBLISH
X-WR-CALNAME:SINGPromos.com
X-ORIGINAL-URL:https://singpromos.com
X-WR-CALDESC:Events for SINGPromos.com
BEGIN:VEVENT
DTSTART:20141226T000000
DTEND:20141226T235900
DTSTAMP:20260422T073816
CREATED:20141226T110643
LAST-MODIFIED:20141226T110643
UID:128252@https://singpromos.com
SUMMARY:Aerosoles 30% OFF Storewide Boxing Day SALE 26 Dec 2014
DESCRIPTION:Valid for regular priced items only. For more information, visit [ https://singpromos.com/footwear/aerosoles-30-off-storewide-boxing-day-sale-26-dec-2014-128252/ ]. 
LOCATION:
URL:https://singpromos.com/footwear/aerosoles-30-off-storewide-boxing-day-sale-26-dec-2014-128252/
END:VEVENT
END:VCALENDAR