BEGIN:VCALENDAR
PRODID:-//SINGPromos.com//NONSGML v1.0//EN
VERSION:2.0
CALSCALE:GREGORIAN
METHOD:PUBLISH
X-WR-CALNAME:SINGPromos.com
X-ORIGINAL-URL:https://singpromos.com
X-WR-CALDESC:Events for SINGPromos.com
BEGIN:VEVENT
DTSTART:20141226T000000
DTEND:20150104T235900
DTSTAMP:20260422T073815
CREATED:20141226T192414
LAST-MODIFIED:20141226T192414
UID:128353@https://singpromos.com
SUMMARY:prettyFIT & Beetlebug End of Season SALE 26 Dec 2014 - 4 Jan 2015
DESCRIPTION:End of Season Sale. For more information, visit [ https://singpromos.com/footwear/prettyfit-beetlebug-end-of-season-sale-26-dec-2014-4-jan-2015-128353/ ]. 
LOCATION:
URL:https://singpromos.com/footwear/prettyfit-beetlebug-end-of-season-sale-26-dec-2014-4-jan-2015-128353/
END:VEVENT
END:VCALENDAR