BEGIN:VCALENDAR
PRODID:-//SINGPromos.com//NONSGML v1.0//EN
VERSION:2.0
CALSCALE:GREGORIAN
METHOD:PUBLISH
X-WR-CALNAME:SINGPromos.com
X-ORIGINAL-URL:https://singpromos.com
X-WR-CALDESC:Events for SINGPromos.com
BEGIN:VEVENT
DTSTART:20141229T000000
DTEND:20150112T235900
DTSTAMP:20260422T082319
CREATED:20141229T160310
LAST-MODIFIED:20141231T180307
UID:128621@https://singpromos.com
SUMMARY:Singapore Airlines Promotion Air Fares 29 Dec 2014 - 12 Jan 2015
DESCRIPTION:Fares start from $298 to Jakarta, $568 to Beijing, $378 to Hong Kong, $798 to Seoul, $758 to Tokyo, $648 to Perth, $1368 to London and more. Min 2 pax.. For more information, visit [ https://singpromos.com/airlines-flights/singapore-airlines-promotion-air-fares-29-dec-2014-12-jan-2015-128621/ ]. 
LOCATION:
URL:https://singpromos.com/airlines-flights/singapore-airlines-promotion-air-fares-29-dec-2014-12-jan-2015-128621/
END:VEVENT
END:VCALENDAR