BEGIN:VCALENDAR
PRODID:-//SINGPromos.com//NONSGML v1.0//EN
VERSION:2.0
CALSCALE:GREGORIAN
METHOD:PUBLISH
X-WR-CALNAME:SINGPromos.com
X-ORIGINAL-URL:https://singpromos.com
X-WR-CALDESC:Events for SINGPromos.com
BEGIN:VEVENT
DTSTART:20141230T000000
DTEND:20150104T235900
DTSTAMP:20260420T050907
CREATED:20141230T111121
LAST-MODIFIED:20150103T203641
UID:128678@https://singpromos.com
SUMMARY:World of Sports 50% Off Almost Everything New Year Sale 30 Dec 2014 - 4 Jan 2015
DESCRIPTION:Valid at all World of Sports, Mizuno, Columbia, Soloman and Eastpak outlets. For more information, visit [ https://singpromos.com/sports/world-of-sports-50-off-almost-everything-new-year-sale-30-31-dec-2014-128678/ ]. 
LOCATION:
URL:https://singpromos.com/sports/world-of-sports-50-off-almost-everything-new-year-sale-30-31-dec-2014-128678/
END:VEVENT
END:VCALENDAR