BEGIN:VCALENDAR
PRODID:-//SINGPromos.com//NONSGML v1.0//EN
VERSION:2.0
CALSCALE:GREGORIAN
METHOD:PUBLISH
X-WR-CALNAME:SINGPromos.com
X-ORIGINAL-URL:https://singpromos.com
X-WR-CALDESC:Events for SINGPromos.com
BEGIN:VEVENT
DTSTART:20150126T000000
DTEND:20150204T235900
DTSTAMP:20260422T080643
CREATED:20150101T194238
LAST-MODIFIED:20150101T194238
UID:129001@https://singpromos.com
SUMMARY:Triumph Lingerie Fair @ Northpoint 26 Jan - 4 Feb 2015
DESCRIPTION:Lingerie Fair at Northpoint. For more information, visit [ https://singpromos.com/happenings/triumph-lingerie-fair-northpoint-26-jan-4-feb-2015-129001/ ]. 
LOCATION:769098
URL:https://singpromos.com/happenings/triumph-lingerie-fair-northpoint-26-jan-4-feb-2015-129001/
END:VEVENT
END:VCALENDAR