BEGIN:VCALENDAR
PRODID:-//SINGPromos.com//NONSGML v1.0//EN
VERSION:2.0
CALSCALE:GREGORIAN
METHOD:PUBLISH
X-WR-CALNAME:SINGPromos.com
X-ORIGINAL-URL:https://singpromos.com
X-WR-CALDESC:Events for SINGPromos.com
BEGIN:VEVENT
DTSTART:20150103T000000
DTEND:20150105T235900
DTSTAMP:20260420T230413
CREATED:20150103T165422
LAST-MODIFIED:20150103T165519
UID:129240@https://singpromos.com
SUMMARY:Courts New Year 2015 Sale 3 - 5 Jan 2015
DESCRIPTION:Huge savings to kickstart the year! Renew your spirit. Renew your home this new year!. For more information, visit [ https://singpromos.com/department-stores/courts-new-year-2015-sale-3-5-jan-2015-129240/ ]. 
LOCATION:
URL:https://singpromos.com/department-stores/courts-new-year-2015-sale-3-5-jan-2015-129240/
END:VEVENT
END:VCALENDAR