BEGIN:VCALENDAR
PRODID:-//SINGPromos.com//NONSGML v1.0//EN
VERSION:2.0
CALSCALE:GREGORIAN
METHOD:PUBLISH
X-WR-CALNAME:SINGPromos.com
X-ORIGINAL-URL:https://singpromos.com
X-WR-CALDESC:Events for SINGPromos.com
BEGIN:VEVENT
DTSTART:20150105T000000
DTEND:20150125T235900
DTSTAMP:20260420T050918
CREATED:20150105T173756
LAST-MODIFIED:20150113T122619
UID:129463@https://singpromos.com
SUMMARY:World of Sports 28% Off Promotion 5 Jan 2015
DESCRIPTION:Available at all World of Sports, World of Outdoors, Columbia, Mizuno, Salomon and Eastpak stores. For more information, visit [ https://singpromos.com/sports/world-of-sports-28-off-promotion-5-jan-2015-129463/ ]. 
LOCATION:
URL:https://singpromos.com/sports/world-of-sports-28-off-promotion-5-jan-2015-129463/
END:VEVENT
END:VCALENDAR