BEGIN:VCALENDAR
PRODID:-//SINGPromos.com//NONSGML v1.0//EN
VERSION:2.0
CALSCALE:GREGORIAN
METHOD:PUBLISH
X-WR-CALNAME:SINGPromos.com
X-ORIGINAL-URL:https://singpromos.com
X-WR-CALDESC:Events for SINGPromos.com
BEGIN:VEVENT
DTSTART:20150107T000000
DTEND:20150111T235900
DTSTAMP:20260420T040715
CREATED:20150107T153136
LAST-MODIFIED:20150112T154407
UID:129673@https://singpromos.com
SUMMARY:Malaysia Airlines From $82 Malaysian Destinations Promo Fares 7 - 11 Jan 2015
DESCRIPTION:Fly from Singapore to selected Malaysian destinations via Malaysia Airlines latest promotion air fares. For more information, visit [ https://singpromos.com/airlines-flights/malaysia-airlines-from-82-malaysian-destinations-promo-fares-7-31-jan-2015-129673/ ]. 
LOCATION:
URL:https://singpromos.com/airlines-flights/malaysia-airlines-from-82-malaysian-destinations-promo-fares-7-31-jan-2015-129673/
END:VEVENT
END:VCALENDAR