BEGIN:VCALENDAR
PRODID:-//SINGPromos.com//NONSGML v1.0//EN
VERSION:2.0
CALSCALE:GREGORIAN
METHOD:PUBLISH
X-WR-CALNAME:SINGPromos.com
X-ORIGINAL-URL:https://singpromos.com
X-WR-CALDESC:Events for SINGPromos.com
BEGIN:VEVENT
DTSTART:20150109T000000
DTEND:20150115T235900
DTSTAMP:20260420T232526
CREATED:20150109T005943
LAST-MODIFIED:20150109T005943
UID:129915@https://singpromos.com
SUMMARY:Cold Storage New Moon Abalones & Other CNY Offers 9 - 15 Jan 2015
DESCRIPTION:Get 6 cans of New Moon New Zealand Abalone 425g for $188.80 when you make min $50 spend till 11 Jan!. For more information, visit [ https://singpromos.com/dining-restaurants-food/cold-storage-new-moon-abalones-other-cny-offers-9-15-jan-2015-129915/ ]. 
LOCATION:
URL:https://singpromos.com/dining-restaurants-food/cold-storage-new-moon-abalones-other-cny-offers-9-15-jan-2015-129915/
END:VEVENT
END:VCALENDAR