BEGIN:VCALENDAR
PRODID:-//SINGPromos.com//NONSGML v1.0//EN
VERSION:2.0
CALSCALE:GREGORIAN
METHOD:PUBLISH
X-WR-CALNAME:SINGPromos.com
X-ORIGINAL-URL:https://singpromos.com
X-WR-CALDESC:Events for SINGPromos.com
BEGIN:VEVENT
DTSTART:20150115T000000
DTEND:20150118T235900
DTSTAMP:20260422T073918
CREATED:20150115T180208
LAST-MODIFIED:20150115T180208
UID:130862@https://singpromos.com
SUMMARY:The Face Shop 10% Off Promo 15 Jan 2015
DESCRIPTION:Simply like their Facebook Page to enjoy the offer.. For more information, visit [ https://singpromos.com/beauty/the-face-shop-10-off-promo-15-jan-2015-130862/ ]. 
LOCATION:
URL:https://singpromos.com/beauty/the-face-shop-10-off-promo-15-jan-2015-130862/
END:VEVENT
END:VCALENDAR