BEGIN:VCALENDAR
PRODID:-//SINGPromos.com//NONSGML v1.0//EN
VERSION:2.0
CALSCALE:GREGORIAN
METHOD:PUBLISH
X-WR-CALNAME:SINGPromos.com
X-ORIGINAL-URL:https://singpromos.com
X-WR-CALDESC:Events for SINGPromos.com
BEGIN:VEVENT
DTSTART:20150116T000000
DTEND:20150214T235900
DTSTAMP:20260420T035756
CREATED:20150116T171815
LAST-MODIFIED:20150116T171815
UID:131112@https://singpromos.com
SUMMARY:IKEA Store Extended Opening Hours (Fri & Sat) 16 Jan - 14 Feb 2015
DESCRIPTION:Enjoy longer shopping hours during the pre Chinese New Year 2015 period from 16 January to 14 February, Fridays & Saturdays. For more information, visit [ https://singpromos.com/furniture/ikea-store-extended-opening-hours-fri-sat-16-jan-14-feb-2015-131112/ ]. 
LOCATION:
URL:https://singpromos.com/furniture/ikea-store-extended-opening-hours-fri-sat-16-jan-14-feb-2015-131112/
END:VEVENT
END:VCALENDAR