BEGIN:VCALENDAR
PRODID:-//SINGPromos.com//NONSGML v1.0//EN
VERSION:2.0
CALSCALE:GREGORIAN
METHOD:PUBLISH
X-WR-CALNAME:SINGPromos.com
X-ORIGINAL-URL:https://singpromos.com
X-WR-CALDESC:Events for SINGPromos.com
BEGIN:VEVENT
DTSTART:20150117T000000
DTEND:20150119T235900
DTSTAMP:20260422T075752
CREATED:20150117T192519
LAST-MODIFIED:20150117T192519
UID:131331@https://singpromos.com
SUMMARY:Courts 2015 Sale Offers 17 - 19 Jan 2015
DESCRIPTION:Courts continues their 2015 Sale. Save up to 80% off on IT, Electrical and Furniture. For more information, visit [ https://singpromos.com/department-stores/courts-2015-sale-offers-17-19-jan-2015-131331/ ]. 
LOCATION:
URL:https://singpromos.com/department-stores/courts-2015-sale-offers-17-19-jan-2015-131331/
END:VEVENT
END:VCALENDAR