BEGIN:VCALENDAR
PRODID:-//SINGPromos.com//NONSGML v1.0//EN
VERSION:2.0
CALSCALE:GREGORIAN
METHOD:PUBLISH
X-WR-CALNAME:SINGPromos.com
X-ORIGINAL-URL:https://singpromos.com
X-WR-CALDESC:Events for SINGPromos.com
BEGIN:VEVENT
DTSTART:20150117T000000
DTEND:20150123T235900
DTSTAMP:20260422T044743
CREATED:20150117T230859
LAST-MODIFIED:20150117T230859
UID:131423@https://singpromos.com
SUMMARY:Harvey Norman Electronics, IT, Appliances & Other Offers 17 - 23 Jan 2015
DESCRIPTION:Check out Harvey Norman's latest offers valid till 23rd January 2014.. For more information, visit [ https://singpromos.com/department-stores/harvey-norman-electronics-it-appliances-other-offers-17-23-jan-2015-131423/ ]. 
LOCATION:
URL:https://singpromos.com/department-stores/harvey-norman-electronics-it-appliances-other-offers-17-23-jan-2015-131423/
END:VEVENT
END:VCALENDAR