BEGIN:VCALENDAR
PRODID:-//SINGPromos.com//NONSGML v1.0//EN
VERSION:2.0
CALSCALE:GREGORIAN
METHOD:PUBLISH
X-WR-CALNAME:SINGPromos.com
X-ORIGINAL-URL:https://singpromos.com
X-WR-CALDESC:Events for SINGPromos.com
BEGIN:VEVENT
DTSTART:20150126T000000
DTEND:20150201T235900
DTSTAMP:20260420T232627
CREATED:20150124T162946
LAST-MODIFIED:20150118T003808
UID:131438@https://singpromos.com
SUMMARY:Isetan Festive Home Bazaar @ Nex 26 Jan - 1 Feb 2015
DESCRIPTION:Enjoy up to 70% off Dolphin, Inomata, K-art, La Gourmet and more. For more information, visit [ https://singpromos.com/happenings/isetan-festive-home-bazaar-nex-26-jan-1-feb-2015-131438/ ]. 
LOCATION:556083
URL:https://singpromos.com/happenings/isetan-festive-home-bazaar-nex-26-jan-1-feb-2015-131438/
END:VEVENT
END:VCALENDAR