BEGIN:VCALENDAR
PRODID:-//SINGPromos.com//NONSGML v1.0//EN
VERSION:2.0
CALSCALE:GREGORIAN
METHOD:PUBLISH
X-WR-CALNAME:SINGPromos.com
X-ORIGINAL-URL:https://singpromos.com
X-WR-CALDESC:Events for SINGPromos.com
BEGIN:VEVENT
DTSTART:20150126T000000
DTEND:20150201T235900
DTSTAMP:20260422T080643
CREATED:20150124T155546
LAST-MODIFIED:20150118T003945
UID:131441@https://singpromos.com
SUMMARY:Isetan Nex Lunar New Year Sale @ Nex 26 Jan - 1 Feb 2015
DESCRIPTION:Enjoy up to 70% off Goldlion, Triumph, Dolphin and Inomata. For more information, visit [ https://singpromos.com/happenings/isetan-nex-lunar-new-year-sale-nex-26-jan-1-feb-2015-131441/ ]. 
LOCATION:556083
URL:https://singpromos.com/happenings/isetan-nex-lunar-new-year-sale-nex-26-jan-1-feb-2015-131441/
END:VEVENT
END:VCALENDAR