BEGIN:VCALENDAR
PRODID:-//SINGPromos.com//NONSGML v1.0//EN
VERSION:2.0
CALSCALE:GREGORIAN
METHOD:PUBLISH
X-WR-CALNAME:SINGPromos.com
X-ORIGINAL-URL:https://singpromos.com
X-WR-CALDESC:Events for SINGPromos.com
BEGIN:VEVENT
DTSTART:20110825T000000
DTEND:20110825T235900
DTSTAMP:20260422T195455
CREATED:20110823T021654
LAST-MODIFIED:20110823T021654
UID:13165@https://singpromos.com
SUMMARY:Frolick Free Yogurt For Ticket-Inn App Users @ SMU B1 25 Aug 2011
DESCRIPTION:Download the Ticket-Inn app on your iPhone and see how you can tantalize your taste buds with Frolick for free on 25 Aug 2011, 12pm - 3pm at their SMU B1 outlet only. For more information, visit [ https://singpromos.com/dining-restaurants-food/frolick-free-yogurt-for-ticket-inn-app-users-smu-b1-25-aug-2011-13165/ ]. 
LOCATION:
URL:https://singpromos.com/dining-restaurants-food/frolick-free-yogurt-for-ticket-inn-app-users-smu-b1-25-aug-2011-13165/
END:VEVENT
END:VCALENDAR