BEGIN:VCALENDAR
PRODID:-//SINGPromos.com//NONSGML v1.0//EN
VERSION:2.0
CALSCALE:GREGORIAN
METHOD:PUBLISH
X-WR-CALNAME:SINGPromos.com
X-ORIGINAL-URL:https://singpromos.com
X-WR-CALDESC:Events for SINGPromos.com
BEGIN:VEVENT
DTSTART:20150130T000000
DTEND:20150201T235900
DTSTAMP:20260420T031302
CREATED:20150120T153251
LAST-MODIFIED:20150201T200117
UID:131827@https://singpromos.com
SUMMARY:Harvey Norman Red Expo Sale @ Singapore Expo 30 Jan - 1 Feb 2015
DESCRIPTION:Red Expo Sale from 30 January 2015 to 1 February 2015 at Singapore Expo. For more information, visit [ https://singpromos.com/happenings/harvey-norman-red-expo-sale-singapore-expo-30-jan-1-feb-2015-131827/ ]. 
LOCATION:486150
URL:https://singpromos.com/happenings/harvey-norman-red-expo-sale-singapore-expo-30-jan-1-feb-2015-131827/
END:VEVENT
END:VCALENDAR