BEGIN:VCALENDAR
PRODID:-//SINGPromos.com//NONSGML v1.0//EN
VERSION:2.0
CALSCALE:GREGORIAN
METHOD:PUBLISH
X-WR-CALNAME:SINGPromos.com
X-ORIGINAL-URL:https://singpromos.com
X-WR-CALDESC:Events for SINGPromos.com
BEGIN:VEVENT
DTSTART:20150123T000000
DTEND:20150222T235900
DTSTAMP:20260422T073959
CREATED:20150123T123007
LAST-MODIFIED:20150123T123007
UID:132269@https://singpromos.com
SUMMARY:Gap Spend $138 & Get Up To $58 Off 23 Jan - 22 Feb 2015
DESCRIPTION:Members get free movie tickets to Kingsman: The Secret Service. For more information, visit [ https://singpromos.com/fashion-accessories/gap-spend-138-get-up-to-58-off-23-jan-22-feb-2015-132269/ ]. 
LOCATION:
URL:https://singpromos.com/fashion-accessories/gap-spend-138-get-up-to-58-off-23-jan-22-feb-2015-132269/
END:VEVENT
END:VCALENDAR