BEGIN:VCALENDAR
PRODID:-//SINGPromos.com//NONSGML v1.0//EN
VERSION:2.0
CALSCALE:GREGORIAN
METHOD:PUBLISH
X-WR-CALNAME:SINGPromos.com
X-ORIGINAL-URL:https://singpromos.com
X-WR-CALDESC:Events for SINGPromos.com
BEGIN:VEVENT
DTSTART:20150123T000000
DTEND:20150129T235900
DTSTAMP:20260420T232625
CREATED:20150123T133831
LAST-MODIFIED:20150123T133831
UID:132294@https://singpromos.com
SUMMARY:Cold Storage Abalones & CNY Goodies Offers 23 - 29 Jan 2015
DESCRIPTION:Get a FREE $10 Ang Pow Voucher with every can of participating abalone products purchased till 25 Jan. Voucher valid for use with purchase of canned abalone or prosperity treasure pot only. For more information, visit [ https://singpromos.com/dining-restaurants-food/cold-storage-abalones-cny-goodies-offers-23-29-jan-2015-132294/ ]. 
LOCATION:
URL:https://singpromos.com/dining-restaurants-food/cold-storage-abalones-cny-goodies-offers-23-29-jan-2015-132294/
END:VEVENT
END:VCALENDAR