BEGIN:VCALENDAR
PRODID:-//SINGPromos.com//NONSGML v1.0//EN
VERSION:2.0
CALSCALE:GREGORIAN
METHOD:PUBLISH
X-WR-CALNAME:SINGPromos.com
X-ORIGINAL-URL:https://singpromos.com
X-WR-CALDESC:Events for SINGPromos.com
BEGIN:VEVENT
DTSTART:20150124T000000
DTEND:20150126T235900
DTSTAMP:20260422T075745
CREATED:20150124T191023
LAST-MODIFIED:20150124T191137
UID:132537@https://singpromos.com
SUMMARY:Courts 2015 Sale Offers 24 - 26 Jan 2015
DESCRIPTION:Courts continues their 2015 Sale from 24 January to 26 January 2015. Check out some of the offers now. For more information, visit [ https://singpromos.com/department-stores/courts-2015-sale-offers-24-26-jan-2015-132537/ ]. 
LOCATION:
URL:https://singpromos.com/department-stores/courts-2015-sale-offers-24-26-jan-2015-132537/
END:VEVENT
END:VCALENDAR