BEGIN:VCALENDAR
PRODID:-//SINGPromos.com//NONSGML v1.0//EN
VERSION:2.0
CALSCALE:GREGORIAN
METHOD:PUBLISH
X-WR-CALNAME:SINGPromos.com
X-ORIGINAL-URL:https://singpromos.com
X-WR-CALDESC:Events for SINGPromos.com
BEGIN:VEVENT
DTSTART:20150123T000000
DTEND:20150222T235900
DTSTAMP:20260422T073931
CREATED:20150127T190717
LAST-MODIFIED:20150127T191030
UID:132844@https://singpromos.com
SUMMARY:Wisma Atria Bountiful Prosperity Promotions 23 Jan - 22 Feb 2015
DESCRIPTION:Prosperity Draw, Citibank Privileges, Spend a minimum of $200 and receive a $10 Food Republic Voucher and $10 Taxi Voucher and more offers. For more information, visit [ https://singpromos.com/shopping-malls/wisma-atria-bountiful-prosperity-promotions-23-jan-22-feb-2015-132844/ ]. 
LOCATION:238877
URL:https://singpromos.com/shopping-malls/wisma-atria-bountiful-prosperity-promotions-23-jan-22-feb-2015-132844/
END:VEVENT
END:VCALENDAR