BEGIN:VCALENDAR
PRODID:-//SINGPromos.com//NONSGML v1.0//EN
VERSION:2.0
CALSCALE:GREGORIAN
METHOD:PUBLISH
X-WR-CALNAME:SINGPromos.com
X-ORIGINAL-URL:https://singpromos.com
X-WR-CALDESC:Events for SINGPromos.com
BEGIN:VEVENT
DTSTART:20150129T000000
DTEND:20150222T235900
DTSTAMP:20260420T051000
CREATED:20150129T163139
LAST-MODIFIED:20150217T120728
UID:133224@https://singpromos.com
SUMMARY:World of Sports 50% Off Almost Everything 29 Jan 2015
DESCRIPTION:Enjoy 50% off almost everything! Plus additional 5% for members. For more information, visit [ https://singpromos.com/sports/world-of-sports-50-off-almost-everything-29-jan-2015-133224/ ]. 
LOCATION:
URL:https://singpromos.com/sports/world-of-sports-50-off-almost-everything-29-jan-2015-133224/
END:VEVENT
END:VCALENDAR