BEGIN:VCALENDAR
PRODID:-//SINGPromos.com//NONSGML v1.0//EN
VERSION:2.0
CALSCALE:GREGORIAN
METHOD:PUBLISH
X-WR-CALNAME:SINGPromos.com
X-ORIGINAL-URL:https://singpromos.com
X-WR-CALDESC:Events for SINGPromos.com
BEGIN:VEVENT
DTSTART:20110826T000000
DTEND:20110909T235900
DTSTAMP:20260420T061852
CREATED:20110826T023711
LAST-MODIFIED:20110901T003125
UID:13338@https://singpromos.com
SUMMARY:vHive 10% Off Storewide @ Harbourfront Centre 26 Aug - 9 Sep 2011
DESCRIPTION:vHive is having a 10% off storewide opening special at their newly opened outlet at Harbourfront Centre. All other stores are having a European Furniture Fair 10% off special offer. For more information, visit [ https://singpromos.com/furniture/vhive-10-off-storewide-harbourfront-centre-26-aug-3-sep-2011-13338/ ]. 
LOCATION:
URL:https://singpromos.com/furniture/vhive-10-off-storewide-harbourfront-centre-26-aug-3-sep-2011-13338/
END:VEVENT
END:VCALENDAR