BEGIN:VCALENDAR
PRODID:-//SINGPromos.com//NONSGML v1.0//EN
VERSION:2.0
CALSCALE:GREGORIAN
METHOD:PUBLISH
X-WR-CALNAME:SINGPromos.com
X-ORIGINAL-URL:https://singpromos.com
X-WR-CALDESC:Events for SINGPromos.com
BEGIN:VEVENT
DTSTART:20150131T000000
DTEND:20150308T235900
DTSTAMP:20260422T082320
CREATED:20150201T134756
LAST-MODIFIED:20150227T132142
UID:133813@https://singpromos.com
SUMMARY:Dockers 50% OFF Apparels 31 Jan 2015
DESCRIPTION:Minimum purchase of 2 pieces.. For more information, visit [ https://singpromos.com/fashion-accessories/dockers-50-off-apparels-isetan-katong-tampines-31-jan-2015-133813/ ]. 
LOCATION:
URL:https://singpromos.com/fashion-accessories/dockers-50-off-apparels-isetan-katong-tampines-31-jan-2015-133813/
END:VEVENT
END:VCALENDAR