BEGIN:VCALENDAR
PRODID:-//SINGPromos.com//NONSGML v1.0//EN
VERSION:2.0
CALSCALE:GREGORIAN
METHOD:PUBLISH
X-WR-CALNAME:SINGPromos.com
X-ORIGINAL-URL:https://singpromos.com
X-WR-CALDESC:Events for SINGPromos.com
BEGIN:VEVENT
DTSTART:20150206T000000
DTEND:20150212T235900
DTSTAMP:20260422T082145
CREATED:20150205T154816
LAST-MODIFIED:20150204T191526
UID:134129@https://singpromos.com
SUMMARY:Isetan Bedlinen Sale @ Isetan Scotts 6 - 12 Feb 2015
DESCRIPTION:Enjoy up to 70% off Bedlinen brands such as King Koil, Stylemaster, Urblanc and more. For more information, visit [ https://singpromos.com/happenings/isetan-bedlinen-sale-isetan-scotts-6-12-feb-2015-134129/ ]. 
LOCATION:238868
URL:https://singpromos.com/happenings/isetan-bedlinen-sale-isetan-scotts-6-12-feb-2015-134129/
END:VEVENT
END:VCALENDAR