BEGIN:VCALENDAR
PRODID:-//SINGPromos.com//NONSGML v1.0//EN
VERSION:2.0
CALSCALE:GREGORIAN
METHOD:PUBLISH
X-WR-CALNAME:SINGPromos.com
X-ORIGINAL-URL:https://singpromos.com
X-WR-CALDESC:Events for SINGPromos.com
BEGIN:VEVENT
DTSTART:20150213T000000
DTEND:20150223T235900
DTSTAMP:20260422T063110
CREATED:20150212T155519
LAST-MODIFIED:20150204T190340
UID:134280@https://singpromos.com
SUMMARY:Isetan Ladies Intimate Fair @ Nex 13 - 23 Feb 2015
DESCRIPTION:Enjoy up to 70% off Triumph, Hush Puppies, Beauty and Impression.. For more information, visit [ https://singpromos.com/happenings/isetan-ladies-intimate-fair-nex-13-23-feb-2015-134280/ ]. 
LOCATION:556083
URL:https://singpromos.com/happenings/isetan-ladies-intimate-fair-nex-13-23-feb-2015-134280/
END:VEVENT
END:VCALENDAR