BEGIN:VCALENDAR
PRODID:-//SINGPromos.com//NONSGML v1.0//EN
VERSION:2.0
CALSCALE:GREGORIAN
METHOD:PUBLISH
X-WR-CALNAME:SINGPromos.com
X-ORIGINAL-URL:https://singpromos.com
X-WR-CALDESC:Events for SINGPromos.com
BEGIN:VEVENT
DTSTART:20150205T000000
DTEND:20150212T235900
DTSTAMP:20260420T232625
CREATED:20150204T175454
LAST-MODIFIED:20150204T175454
UID:134295@https://singpromos.com
SUMMARY:Isetan Household Sale @ Tampines Mall 5 - 12 Feb 2015
DESCRIPTION:Enjoy up to 70% off La Gourmet, Toyomi, Nude Food Mover and Zebra products. For more information, visit [ https://singpromos.com/happenings/isetan-household-sale-tampines-mall-5-12-feb-2015-134295/ ]. 
LOCATION:529510
URL:https://singpromos.com/happenings/isetan-household-sale-tampines-mall-5-12-feb-2015-134295/
END:VEVENT
END:VCALENDAR