BEGIN:VCALENDAR
PRODID:-//SINGPromos.com//NONSGML v1.0//EN
VERSION:2.0
CALSCALE:GREGORIAN
METHOD:PUBLISH
X-WR-CALNAME:SINGPromos.com
X-ORIGINAL-URL:https://singpromos.com
X-WR-CALDESC:Events for SINGPromos.com
BEGIN:VEVENT
DTSTART:20150209T000000
DTEND:20150218T235900
DTSTAMP:20260422T080643
CREATED:20150208T154314
LAST-MODIFIED:20150204T175014
UID:134301@https://singpromos.com
SUMMARY:Triumph Promotion Event @ Parkway Parade 9 - 18 Feb 2015
DESCRIPTION:Get a sure-win lucky dip with purchase of $150 Triumph products. For more information, visit [ https://singpromos.com/happenings/triumph-promotion-event-parkway-parade-9-18-feb-2015-134301/ ]. 
LOCATION:449269
URL:https://singpromos.com/happenings/triumph-promotion-event-parkway-parade-9-18-feb-2015-134301/
END:VEVENT
END:VCALENDAR