BEGIN:VCALENDAR
PRODID:-//SINGPromos.com//NONSGML v1.0//EN
VERSION:2.0
CALSCALE:GREGORIAN
METHOD:PUBLISH
X-WR-CALNAME:SINGPromos.com
X-ORIGINAL-URL:https://singpromos.com
X-WR-CALDESC:Events for SINGPromos.com
BEGIN:VEVENT
DTSTART:20150206T000000
DTEND:20150220T235900
DTSTAMP:20260424T032118
CREATED:20150205T062410
LAST-MODIFIED:20150205T012826
UID:134366@https://singpromos.com
SUMMARY:Isetan Extended Opening Hours & Chinese New Year Opening Hours 6 - 20 Feb 2015
DESCRIPTION:Extended Shopping Hours during the pre-Chinese New Year period as well as the opening hours during the Chinese New Year holiday period. For more information, visit [ https://singpromos.com/department-stores/isetan-extended-opening-hours-chinese-new-year-opening-hours-6-20-feb-2015-134366/ ]. 
LOCATION:
URL:https://singpromos.com/department-stores/isetan-extended-opening-hours-chinese-new-year-opening-hours-6-20-feb-2015-134366/
END:VEVENT
END:VCALENDAR