BEGIN:VCALENDAR
PRODID:-//SINGPromos.com//NONSGML v1.0//EN
VERSION:2.0
CALSCALE:GREGORIAN
METHOD:PUBLISH
X-WR-CALNAME:SINGPromos.com
X-ORIGINAL-URL:https://singpromos.com
X-WR-CALDESC:Events for SINGPromos.com
BEGIN:VEVENT
DTSTART:20150206T000000
DTEND:20150208T235900
DTSTAMP:20260420T035746
CREATED:20150206T122416
LAST-MODIFIED:20150206T175356
UID:134572@https://singpromos.com
SUMMARY:IKEA Free LED Light Bulbs Exchange Promotion 6 - 8 Feb 2015
DESCRIPTION:Simply bring along your traditional or incandescent light bulbs and IKEA will give you an IKEA LED bulb in exchange.. For more information, visit [ https://singpromos.com/household/ikea-free-led-light-bulbs-exchange-promotion-6-8-feb-2015-134572/ ]. 
LOCATION:
URL:https://singpromos.com/household/ikea-free-led-light-bulbs-exchange-promotion-6-8-feb-2015-134572/
END:VEVENT
END:VCALENDAR