BEGIN:VCALENDAR
PRODID:-//SINGPromos.com//NONSGML v1.0//EN
VERSION:2.0
CALSCALE:GREGORIAN
METHOD:PUBLISH
X-WR-CALNAME:SINGPromos.com
X-ORIGINAL-URL:https://singpromos.com
X-WR-CALDESC:Events for SINGPromos.com
BEGIN:VEVENT
DTSTART:20150201T000000
DTEND:20150430T235900
DTSTAMP:20260422T042819
CREATED:20150208T160901
LAST-MODIFIED:20150207T221632
UID:134938@https://singpromos.com
SUMMARY:HP Printers & Scanners Promotion Offers 1 Feb - 30 Apr 2015
DESCRIPTION:Check out HP's latest offers on their printer and scanner products, valid till 30 April 2015. For more information, visit [ https://singpromos.com/computers-pc/printers/hp-printers-scanners-promotion-offers-1-feb-30-apr-2015-134938/ ]. 
LOCATION:
URL:https://singpromos.com/computers-pc/printers/hp-printers-scanners-promotion-offers-1-feb-30-apr-2015-134938/
END:VEVENT
END:VCALENDAR