BEGIN:VCALENDAR
PRODID:-//SINGPromos.com//NONSGML v1.0//EN
VERSION:2.0
CALSCALE:GREGORIAN
METHOD:PUBLISH
X-WR-CALNAME:SINGPromos.com
X-ORIGINAL-URL:https://singpromos.com
X-WR-CALDESC:Events for SINGPromos.com
BEGIN:VEVENT
DTSTART:20150215T000000
DTEND:20150225T235900
DTSTAMP:20260422T082138
CREATED:20150214T161935
LAST-MODIFIED:20150211T202020
UID:135357@https://singpromos.com
SUMMARY:MiniInTheBox $4 OFF Storewide Coupon Code 15 - 25 Feb 2015
DESCRIPTION:Get $4 OFF when you make a minimum purchase of $36.. For more information, visit [ https://singpromos.com/department-stores/miniinthebox-4-off-storewide-coupon-code-15-25-feb-2015-135357/ ]. 
LOCATION:
URL:https://singpromos.com/department-stores/miniinthebox-4-off-storewide-coupon-code-15-25-feb-2015-135357/
END:VEVENT
END:VCALENDAR