BEGIN:VCALENDAR
PRODID:-//SINGPromos.com//NONSGML v1.0//EN
VERSION:2.0
CALSCALE:GREGORIAN
METHOD:PUBLISH
X-WR-CALNAME:SINGPromos.com
X-ORIGINAL-URL:https://singpromos.com
X-WR-CALDESC:Events for SINGPromos.com
BEGIN:VEVENT
DTSTART:20150215T000000
DTEND:20150215T235900
DTSTAMP:20260424T023606
CREATED:20150215T002212
LAST-MODIFIED:20150215T002212
UID:135846@https://singpromos.com
SUMMARY:Sheng Siong Happy Family Abalone, Brand's Essence of Chicken & More 1-Day Offers 15 Feb 2015
DESCRIPTION:Happy Family Australia Wild Abalone, Brand's Essence of Chicken (Traditional), Royal Umbrella Fragrant Rice 5kg, New Moon Razor Clams 425g & more. For more information, visit [ https://singpromos.com/dining-restaurants-food/sheng-siong-happy-family-abalone-brands-essence-of-chicken-more-1-day-offers-15-feb-2015-135846/ ]. 
LOCATION:
URL:https://singpromos.com/dining-restaurants-food/sheng-siong-happy-family-abalone-brands-essence-of-chicken-more-1-day-offers-15-feb-2015-135846/
END:VEVENT
END:VCALENDAR