BEGIN:VCALENDAR
PRODID:-//SINGPromos.com//NONSGML v1.0//EN
VERSION:2.0
CALSCALE:GREGORIAN
METHOD:PUBLISH
X-WR-CALNAME:SINGPromos.com
X-ORIGINAL-URL:https://singpromos.com
X-WR-CALDESC:Events for SINGPromos.com
BEGIN:VEVENT
DTSTART:20150226T000000
DTEND:20150315T235900
DTSTAMP:20260420T035756
CREATED:20150216T160440
LAST-MODIFIED:20150226T115853
UID:135922@https://singpromos.com
SUMMARY:IKEA Sale 26 Feb - 15 Mar 2015
DESCRIPTION:IKEA will be starting a Sale from 26 February to 15 March 2015.. For more information, visit [ https://singpromos.com/furniture/ikea-sale-26-feb-15-mar-2015-135922/ ]. 
LOCATION:
URL:https://singpromos.com/furniture/ikea-sale-26-feb-15-mar-2015-135922/
END:VEVENT
END:VCALENDAR