BEGIN:VCALENDAR
PRODID:-//SINGPromos.com//NONSGML v1.0//EN
VERSION:2.0
CALSCALE:GREGORIAN
METHOD:PUBLISH
X-WR-CALNAME:SINGPromos.com
X-ORIGINAL-URL:https://singpromos.com
X-WR-CALDESC:Events for SINGPromos.com
BEGIN:VEVENT
DTSTART:20150217T000000
DTEND:20150218T235900
DTSTAMP:20260422T045810
CREATED:20150217T182908
LAST-MODIFIED:20150217T182908
UID:136066@https://singpromos.com
SUMMARY:Best Denki TV, Appliances & Other Electronics Offers 17 - 18 Feb 2015
DESCRIPTION:Check out some of the latest offers from Best Denki valid till 18 February 2015.. For more information, visit [ https://singpromos.com/department-stores/best-denki-tv-appliances-other-electronics-offers-17-18-feb-2015-136066/ ]. 
LOCATION:
URL:https://singpromos.com/department-stores/best-denki-tv-appliances-other-electronics-offers-17-18-feb-2015-136066/
END:VEVENT
END:VCALENDAR