BEGIN:VCALENDAR
PRODID:-//SINGPromos.com//NONSGML v1.0//EN
VERSION:2.0
CALSCALE:GREGORIAN
METHOD:PUBLISH
X-WR-CALNAME:SINGPromos.com
X-ORIGINAL-URL:https://singpromos.com
X-WR-CALDESC:Events for SINGPromos.com
BEGIN:VEVENT
DTSTART:20150301T000000
DTEND:20150301T235900
DTSTAMP:20260420T012217
CREATED:20150226T172946
LAST-MODIFIED:20150226T182420
UID:136894@https://singpromos.com
SUMMARY:Chingay 2015 Orchard Night Fiesta @ Orchard 1 Mar 2015
DESCRIPTION:Get up-close with Chingay performers & colourful Chingay floats. Selected floats are open for boarding. For more information, visit [ https://singpromos.com/happenings/chingay-2015-orchard-night-fiesta-orchard-1-mar-2015-136894/ ]. 
LOCATION:
URL:https://singpromos.com/happenings/chingay-2015-orchard-night-fiesta-orchard-1-mar-2015-136894/
END:VEVENT
END:VCALENDAR